1.0000000000
0.0000000000
0.0000000000
-1.0000000000
627954.5000000000
4713817.5000000000
