1.0000000000
0.0000000000
0.0000000000
-1.0000000000
638076.5000000000
4720962.5000000000
