1.0000000000
0.0000000000
0.0000000000
-1.0000000000
632951.5000000000
4720857.5000000000
