1.0000000000
0.0000000000
0.0000000000
-1.0000000000
633084.5000000000
4713917.5000000000
