1.0000000000
0.0000000000
0.0000000000
-1.0000000000
648327.5000000000
4721181.5000000000
