1.0000000000
0.0000000000
0.0000000000
-1.0000000000
643201.5000000000
4721070.5000000000
