1.0000000000
0.0000000000
0.0000000000
-1.0000000000
648475.5000000000
4714241.5000000000
