1.0000000000
0.0000000000
0.0000000000
-1.0000000000
653452.5000000000
4721297.5000000000
