1.0000000000
0.0000000000
0.0000000000
-1.0000000000
658736.5000000000
4714476.5000000000
