1.0000000000
0.0000000000
0.0000000000
-1.0000000000
586997.5000000000
4706210.5000000000
