1.0000000000
0.0000000000
0.0000000000
-1.0000000000
587084.5000000000
4699270.5000000000
