1.0000000000
0.0000000000
0.0000000000
-1.0000000000
592133.5000000000
4706280.5000000000
