1.0000000000
0.0000000000
0.0000000000
-1.0000000000
504790.5000000000
4761126.5000000000
