1.0000000000
0.0000000000
0.0000000000
-1.0000000000
509884.5000000000
4761136.5000000000
