1.0000000000
0.0000000000
0.0000000000
-1.0000000000
514994.5000000000
4754208.5000000000
