1.0000000000
0.0000000000
0.0000000000
-1.0000000000
520073.5000000000
4761166.5000000000
