1.0000000000
0.0000000000
0.0000000000
-1.0000000000
520093.5000000000
4754226.5000000000
