1.0000000000
0.0000000000
0.0000000000
-1.0000000000
535392.5000000000
4754300.5000000000
