1.0000000000
0.0000000000
0.0000000000
-1.0000000000
540450.5000000000
4761273.5000000000
