1.0000000000
0.0000000000
0.0000000000
-1.0000000000
545590.5000000000
4754368.5000000000
