1.0000000000
0.0000000000
0.0000000000
-1.0000000000
540491.5000000000
4754332.5000000000
