1.0000000000
0.0000000000
0.0000000000
-1.0000000000
550690.5000000000
4754408.5000000000
