1.0000000000
0.0000000000
0.0000000000
-1.0000000000
504800.5000000000
4747245.5000000000
