1.0000000000
0.0000000000
0.0000000000
-1.0000000000
509905.5000000000
4747255.5000000000
