1.0000000000
0.0000000000
0.0000000000
-1.0000000000
509915.5000000000
4740314.5000000000
