1.0000000000
0.0000000000
0.0000000000
-1.0000000000
525244.5000000000
4740365.5000000000
