1.0000000000
0.0000000000
0.0000000000
-1.0000000000
530323.5000000000
4747331.5000000000
