1.0000000000
0.0000000000
0.0000000000
-1.0000000000
545637.5000000000
4747427.5000000000
