1.0000000000
0.0000000000
0.0000000000
-1.0000000000
545683.5000000000
4740487.5000000000
