1.0000000000
0.0000000000
0.0000000000
-1.0000000000
555846.5000000000
4747511.5000000000
