1.0000000000
0.0000000000
0.0000000000
-1.0000000000
555903.5000000000
4740570.5000000000
