1.0000000000
0.0000000000
0.0000000000
-1.0000000000
550793.5000000000
4740527.5000000000
