1.0000000000
0.0000000000
0.0000000000
-1.0000000000
566055.5000000000
4747609.5000000000
