1.0000000000
0.0000000000
0.0000000000
-1.0000000000
576342.5000000000
4740782.5000000000
