1.0000000000
0.0000000000
0.0000000000
-1.0000000000
571232.5000000000
4740724.5000000000
