1.0000000000
0.0000000000
0.0000000000
-1.0000000000
504810.5000000000
4733364.5000000000
