1.0000000000
0.0000000000
0.0000000000
-1.0000000000
504816.5000000000
4726424.5000000000
