1.0000000000
0.0000000000
0.0000000000
-1.0000000000
525270.5000000000
4733425.5000000000
