1.0000000000
0.0000000000
0.0000000000
-1.0000000000
520176.5000000000
4726464.5000000000
