1.0000000000
0.0000000000
0.0000000000
-1.0000000000
535500.5000000000
4733478.5000000000
