1.0000000000
0.0000000000
0.0000000000
-1.0000000000
530385.5000000000
4733450.5000000000
