1.0000000000
0.0000000000
0.0000000000
-1.0000000000
535536.5000000000
4726538.5000000000
