1.0000000000
0.0000000000
0.0000000000
-1.0000000000
545776.5000000000
4726606.5000000000
