1.0000000000
0.0000000000
0.0000000000
-1.0000000000
540656.5000000000
4726570.5000000000
