1.0000000000
0.0000000000
0.0000000000
-1.0000000000
555959.5000000000
4733630.5000000000
