1.0000000000
0.0000000000
0.0000000000
-1.0000000000
566256.5000000000
4726788.5000000000
