1.0000000000
0.0000000000
0.0000000000
-1.0000000000
576496.5000000000
4726902.5000000000
