1.0000000000
0.0000000000
0.0000000000
-1.0000000000
571376.5000000000
4726843.5000000000
