1.0000000000
0.0000000000
0.0000000000
-1.0000000000
504826.5000000000
4712544.5000000000
