1.0000000000
0.0000000000
0.0000000000
-1.0000000000
515071.5000000000
4719507.5000000000
